BEGIN:VCALENDAR
VERSION:2.0
PRODID:icalendar-ruby
CALSCALE:GREGORIAN
METHOD:PUBLISH
BEGIN:VEVENT
DTSTAMP:20260421T022710Z
UID:283-783594@sjlmadison.org
DTSTART:20261014T150000Z
DTEND:20261014T160000Z
CLASS:PUBLIC
CREATED:20260420T184425
DESCRIPTION:
LAST-MODIFIED:20260420T184425
LOCATION:
SUMMARY:Bible Study - Upcoming Sunday
URL;VALUE=URI:https://sjlmadison.org/events/bible-study-upcoming-sunday/202
 6-10-14
END:VEVENT
END:VCALENDAR
