BEGIN:VCALENDAR
VERSION:2.0
PRODID:icalendar-ruby
CALSCALE:GREGORIAN
METHOD:PUBLISH
BEGIN:VEVENT
DTSTAMP:20260421T051712Z
UID:283-783596@sjlmadison.org
DTSTART:20261028T150000Z
DTEND:20261028T160000Z
CLASS:PUBLIC
CREATED:20260420T184425
DESCRIPTION:
LAST-MODIFIED:20260420T184425
LOCATION:
SUMMARY:Bible Study - Upcoming Sunday
URL;VALUE=URI:https://sjlmadison.org/events/bible-study-upcoming-sunday/202
 6-10-28
END:VEVENT
END:VCALENDAR
