BEGIN:VCALENDAR
VERSION:2.0
PRODID:icalendar-ruby
CALSCALE:GREGORIAN
METHOD:PUBLISH
BEGIN:VEVENT
DTSTAMP:20260423T113205Z
UID:73-789995@sjlmadison.org
DTSTART:20261028T233000Z
DTEND:20261029T003000Z
CLASS:PUBLIC
CREATED:20260423T055615
DESCRIPTION:2025-2026 Parent-Youth Meetings\, September 3 and January 7.
LAST-MODIFIED:20260423T055615
LOCATION:
SUMMARY:Confirmation 6th-8th Grade
URL;VALUE=URI:https://sjlmadison.org/events/confirmation-6th-8th-grade/2026
 -10-28
END:VEVENT
END:VCALENDAR
