BEGIN:VCALENDAR
VERSION:2.0
PRODID:icalendar-ruby
CALSCALE:GREGORIAN
METHOD:PUBLISH
BEGIN:VEVENT
DTSTAMP:20260420T195100Z
UID:299-782637@sjlmadison.org
DTSTART:20261022T010000Z
DTEND:20261022T020000Z
CLASS:PUBLIC
CREATED:20260420T133318
DESCRIPTION:Senior High Youth Group
LAST-MODIFIED:20260420T133318
LOCATION:
SUMMARY:High School Youth Group
URL;VALUE=URI:https://sjlmadison.org/events/high-school-youth-group/2026-10
 -21
END:VEVENT
END:VCALENDAR
