BEGIN:VCALENDAR
VERSION:2.0
PRODID:icalendar-ruby
CALSCALE:GREGORIAN
METHOD:PUBLISH
BEGIN:VEVENT
DTSTAMP:20260420T212758Z
UID:299-783144@sjlmadison.org
DTSTART:20261029T010000Z
DTEND:20261029T020000Z
CLASS:PUBLIC
CREATED:20260420T160922
DESCRIPTION:Senior High Youth Group
LAST-MODIFIED:20260420T160922
LOCATION:
SUMMARY:High School Youth Group
URL;VALUE=URI:https://sjlmadison.org/events/high-school-youth-group/2026-10
 -28
END:VEVENT
END:VCALENDAR
