BEGIN:VCALENDAR
VERSION:2.0
PRODID:icalendar-ruby
CALSCALE:GREGORIAN
METHOD:PUBLISH
BEGIN:VEVENT
DTSTAMP:20260423T105922Z
UID:486-772542@sjlmadison.org
DTSTART:20260423T130000Z
DTEND:20260423T210000Z
CLASS:PUBLIC
CREATED:20260417T104116
DESCRIPTION:
LAST-MODIFIED:20260417T104116
LOCATION:
SUMMARY:Justice for All trip
URL;VALUE=URI:https://sjlmadison.org/events/justice-for-all-trip/2026-04-23
END:VEVENT
END:VCALENDAR
