BEGIN:VCALENDAR
VERSION:2.0
PRODID:icalendar-ruby
CALSCALE:GREGORIAN
METHOD:PUBLISH
BEGIN:VEVENT
DTSTAMP:20260425T114113Z
UID:419-794330@sjlmadison.org
DTSTART:20260502T123000Z
DTEND:20260502T140000Z
CLASS:PUBLIC
CREATED:20260424T124737
DESCRIPTION:
LAST-MODIFIED:20260424T124737
LOCATION:2nd Street Diner
SUMMARY:Men's Breakfast
URL;VALUE=URI:https://sjlmadison.org/events/mens-breakfast--419/2026-05-02
END:VEVENT
END:VCALENDAR
