BEGIN:VCALENDAR
VERSION:2.0
PRODID:icalendar-ruby
CALSCALE:GREGORIAN
METHOD:PUBLISH
BEGIN:VEVENT
DTSTAMP:20260420T082812Z
UID:485-772525@sjlmadison.org
DTSTART:20260421T234500Z
DTEND:20260422T010000Z
CLASS:PUBLIC
CREATED:20260417T103903
DESCRIPTION:
LAST-MODIFIED:20260417T103903
LOCATION:
SUMMARY:Pine Ridge Immersion Planning Meeting
URL;VALUE=URI:https://sjlmadison.org/events/pine-ridge-immersion-planning-m
 eeting/2026-04-21
END:VEVENT
END:VCALENDAR
