BEGIN:VCALENDAR
VERSION:2.0
PRODID:icalendar-ruby
CALSCALE:GREGORIAN
METHOD:PUBLISH
BEGIN:VEVENT
DTSTAMP:20260420T095835Z
UID:48-772541@sjlmadison.org
DTSTART:20260421T180000Z
DTEND:20260421T193000Z
CLASS:PUBLIC
CREATED:20260417T103942
DESCRIPTION:
LAST-MODIFIED:20260417T103942
LOCATION:
SUMMARY:Sophia Circle Women's Bible Study
URL;VALUE=URI:https://sjlmadison.org/events/sophia-circle-womens-bible-stud
 y/2026-04-21
END:VEVENT
END:VCALENDAR
