BEGIN:VCALENDAR
VERSION:2.0
PRODID:icalendar-ruby
CALSCALE:GREGORIAN
METHOD:PUBLISH
BEGIN:VEVENT
DTSTAMP:20260420T214557Z
UID:69-782784@sjlmadison.org
DTSTART:20261018T150000Z
DTEND:20261018T160000Z
CLASS:PUBLIC
CREATED:20260420T160921
DESCRIPTION:With Holy Communion the first and third Sundays of each month.
LAST-MODIFIED:20260420T160921
LOCATION:
SUMMARY:Sunday Morning Worship
URL;VALUE=URI:https://sjlmadison.org/events/sunday-morning-worship/2026-10-
 18
END:VEVENT
END:VCALENDAR
