BEGIN:VCALENDAR
VERSION:2.0
PRODID:icalendar-ruby
CALSCALE:GREGORIAN
METHOD:PUBLISH
BEGIN:VEVENT
DTSTAMP:20260421T051142Z
UID:69-783292@sjlmadison.org
DTSTART:20261101T160000Z
DTEND:20261101T170000Z
CLASS:PUBLIC
CREATED:20260420T184424
DESCRIPTION:With Holy Communion the first and third Sundays of each month.
LAST-MODIFIED:20260420T184424
LOCATION:
SUMMARY:Sunday Morning Worship
URL;VALUE=URI:https://sjlmadison.org/events/sunday-morning-worship/2026-11-
 01
END:VEVENT
END:VCALENDAR
