BEGIN:VCALENDAR
VERSION:2.0
PRODID:icalendar-ruby
CALSCALE:GREGORIAN
METHOD:PUBLISH
BEGIN:VEVENT
DTSTAMP:20260426T020357Z
UID:72-798618@sjlmadison.org
DTSTART:20261004T140000Z
DTEND:20261004T150000Z
CLASS:PUBLIC
CREATED:20260425T191949
DESCRIPTION:
LAST-MODIFIED:20260425T191949
LOCATION:
SUMMARY:Sunday School and Fellowship
URL;VALUE=URI:https://sjlmadison.org/events/sunday-school-and-fellowship/20
 26-10-04
END:VEVENT
END:VCALENDAR
